BEGIN:VCALENDAR
VERSION:2.0
PRODID:-//Lake Manassas Residential Homeowners Association - ECPv6.15.18//NONSGML v1.0//EN
CALSCALE:GREGORIAN
METHOD:PUBLISH
X-WR-CALNAME:Lake Manassas Residential Homeowners Association
X-ORIGINAL-URL:https://lmroa.com
X-WR-CALDESC:Events for Lake Manassas Residential Homeowners Association
REFRESH-INTERVAL;VALUE=DURATION:PT1H
X-Robots-Tag:noindex
X-PUBLISHED-TTL:PT1H
BEGIN:VTIMEZONE
TZID:America/New_York
BEGIN:DAYLIGHT
TZOFFSETFROM:-0500
TZOFFSETTO:-0400
TZNAME:EDT
DTSTART:20200308T070000
END:DAYLIGHT
BEGIN:STANDARD
TZOFFSETFROM:-0400
TZOFFSETTO:-0500
TZNAME:EST
DTSTART:20201101T060000
END:STANDARD
BEGIN:DAYLIGHT
TZOFFSETFROM:-0500
TZOFFSETTO:-0400
TZNAME:EDT
DTSTART:20210314T070000
END:DAYLIGHT
BEGIN:STANDARD
TZOFFSETFROM:-0400
TZOFFSETTO:-0500
TZNAME:EST
DTSTART:20211107T060000
END:STANDARD
BEGIN:DAYLIGHT
TZOFFSETFROM:-0500
TZOFFSETTO:-0400
TZNAME:EDT
DTSTART:20220313T070000
END:DAYLIGHT
BEGIN:STANDARD
TZOFFSETFROM:-0400
TZOFFSETTO:-0500
TZNAME:EST
DTSTART:20221106T060000
END:STANDARD
END:VTIMEZONE
BEGIN:VEVENT
DTSTART;TZID=America/New_York:20210519T173000
DTEND;TZID=America/New_York:20210519T183000
DTSTAMP:20260424T182726
CREATED:20191231T172856Z
LAST-MODIFIED:20210517T210211Z
UID:3253-1621445400-1621449000@lmroa.com
SUMMARY:Visitor Access Mtg cancelled
DESCRIPTION:
URL:https://lmroa.com/event/csvac-mtg-5pm-2020-02-19-2021-05-19/
LOCATION:14900 Turtle Point Drive\, Gainesville\, VA\, 20155\, United States
END:VEVENT
BEGIN:VEVENT
DTSTART;TZID=America/New_York:20210519T184500
DTEND;TZID=America/New_York:20210519T194500
DTSTAMP:20260424T182726
CREATED:20210430T175418Z
LAST-MODIFIED:20210430T175458Z
UID:3940-1621449900-1621453500@lmroa.com
SUMMARY:Budget & Finance Mtg 6:45pm
DESCRIPTION:
URL:https://lmroa.com/event/budget-finance-mtg-8/
LOCATION:14900 Turtle Point Drive\, Gainesville\, VA\, 20155\, United States
END:VEVENT
END:VCALENDAR