BEGIN:VCALENDAR
VERSION:2.0
PRODID:-//Lake Manassas Residential Homeowners Association - ECPv6.15.18//NONSGML v1.0//EN
CALSCALE:GREGORIAN
METHOD:PUBLISH
X-WR-CALNAME:Lake Manassas Residential Homeowners Association
X-ORIGINAL-URL:https://lmroa.com
X-WR-CALDESC:Events for Lake Manassas Residential Homeowners Association
REFRESH-INTERVAL;VALUE=DURATION:PT1H
X-Robots-Tag:noindex
X-PUBLISHED-TTL:PT1H
BEGIN:VTIMEZONE
TZID:America/New_York
BEGIN:DAYLIGHT
TZOFFSETFROM:-0500
TZOFFSETTO:-0400
TZNAME:EDT
DTSTART:20200308T070000
END:DAYLIGHT
BEGIN:STANDARD
TZOFFSETFROM:-0400
TZOFFSETTO:-0500
TZNAME:EST
DTSTART:20201101T060000
END:STANDARD
BEGIN:DAYLIGHT
TZOFFSETFROM:-0500
TZOFFSETTO:-0400
TZNAME:EDT
DTSTART:20210314T070000
END:DAYLIGHT
BEGIN:STANDARD
TZOFFSETFROM:-0400
TZOFFSETTO:-0500
TZNAME:EST
DTSTART:20211107T060000
END:STANDARD
BEGIN:DAYLIGHT
TZOFFSETFROM:-0500
TZOFFSETTO:-0400
TZNAME:EDT
DTSTART:20220313T070000
END:DAYLIGHT
BEGIN:STANDARD
TZOFFSETFROM:-0400
TZOFFSETTO:-0500
TZNAME:EST
DTSTART:20221106T060000
END:STANDARD
END:VTIMEZONE
BEGIN:VEVENT
DTSTART;TZID=America/New_York:20210603T180000
DTEND;TZID=America/New_York:20210603T190000
DTSTAMP:20260424T145732
CREATED:20210527T173427Z
LAST-MODIFIED:20210527T173505Z
UID:3978-1622743200-1622746800@lmroa.com
SUMMARY:Budget & Finance Mtg 6pm
DESCRIPTION:
URL:https://lmroa.com/event/budget-committee-mtg-6pm/
LOCATION:14900 Turtle Point Drive\, Gainesville\, VA\, 20155\, United States
END:VEVENT
BEGIN:VEVENT
DTSTART;TZID=America/New_York:20210609T170000
DTEND;TZID=America/New_York:20210609T180000
DTSTAMP:20260424T145732
CREATED:20210604T200647Z
LAST-MODIFIED:20210604T200647Z
UID:3994-1623258000-1623261600@lmroa.com
SUMMARY:Communications Committee Meeting 5 pm
DESCRIPTION:The communications committee meeting will be held via Zoom at 5 pm. \nZoom links can be found on the “Announcements” page.
URL:https://lmroa.com/event/communications-committee-meeting-5-pm/
LOCATION:14900 Turtle Point Drive\, Gainesville\, VA\, 20155\, United States
END:VEVENT
BEGIN:VEVENT
DTSTART;TZID=America/New_York:20210616T173000
DTEND;TZID=America/New_York:20210616T183000
DTSTAMP:20260424T145732
CREATED:20191231T172856Z
LAST-MODIFIED:20210616T213328Z
UID:3254-1623864600-1623868200@lmroa.com
SUMMARY:Visitor Access Mtg 5:30pm CANCELED
DESCRIPTION:
URL:https://lmroa.com/event/csvac-mtg-5pm-2020-02-19-2021-06-16/
LOCATION:14900 Turtle Point Drive\, Gainesville\, VA\, 20155\, United States
END:VEVENT
BEGIN:VEVENT
DTSTART;TZID=America/New_York:20210617T180000
DTEND;TZID=America/New_York:20210617T190000
DTSTAMP:20260424T145732
CREATED:20210527T173556Z
LAST-MODIFIED:20210527T173556Z
UID:3981-1623952800-1623956400@lmroa.com
SUMMARY:Board of Directors Mtg 6pm
DESCRIPTION:
URL:https://lmroa.com/event/board-of-directors-mtg-6pm/
LOCATION:14900 Turtle Point Drive\, Gainesville\, VA\, 20155\, United States
END:VEVENT
END:VCALENDAR