BEGIN:VCALENDAR
VERSION:2.0
PRODID:-//Lake Manassas Residential Homeowners Association - ECPv6.15.18//NONSGML v1.0//EN
CALSCALE:GREGORIAN
METHOD:PUBLISH
X-WR-CALNAME:Lake Manassas Residential Homeowners Association
X-ORIGINAL-URL:https://lmroa.com
X-WR-CALDESC:Events for Lake Manassas Residential Homeowners Association
REFRESH-INTERVAL;VALUE=DURATION:PT1H
X-Robots-Tag:noindex
X-PUBLISHED-TTL:PT1H
BEGIN:VTIMEZONE
TZID:America/New_York
BEGIN:DAYLIGHT
TZOFFSETFROM:-0500
TZOFFSETTO:-0400
TZNAME:EDT
DTSTART:20200308T070000
END:DAYLIGHT
BEGIN:STANDARD
TZOFFSETFROM:-0400
TZOFFSETTO:-0500
TZNAME:EST
DTSTART:20201101T060000
END:STANDARD
BEGIN:DAYLIGHT
TZOFFSETFROM:-0500
TZOFFSETTO:-0400
TZNAME:EDT
DTSTART:20210314T070000
END:DAYLIGHT
BEGIN:STANDARD
TZOFFSETFROM:-0400
TZOFFSETTO:-0500
TZNAME:EST
DTSTART:20211107T060000
END:STANDARD
BEGIN:DAYLIGHT
TZOFFSETFROM:-0500
TZOFFSETTO:-0400
TZNAME:EDT
DTSTART:20220313T070000
END:DAYLIGHT
BEGIN:STANDARD
TZOFFSETFROM:-0400
TZOFFSETTO:-0500
TZNAME:EST
DTSTART:20221106T060000
END:STANDARD
END:VTIMEZONE
BEGIN:VEVENT
DTSTART;TZID=America/New_York:20210717T060000
DTEND;TZID=America/New_York:20210717T120000
DTSTAMP:20260424T132007
CREATED:20210712T163706Z
LAST-MODIFIED:20210712T163706Z
UID:4158-1626501600-1626523200@lmroa.com
SUMMARY:SWIM MEET
DESCRIPTION:The pool will open around noon (post-meet) after cleaning.
URL:https://lmroa.com/event/swim-meet-5/
LOCATION:14900 Turtle Point Drive\, Gainesville\, VA\, 20155\, United States
END:VEVENT
BEGIN:VEVENT
DTSTART;TZID=America/New_York:20210719T163000
DTEND;TZID=America/New_York:20210719T180000
DTSTAMP:20260424T132007
CREATED:20210706T214417Z
LAST-MODIFIED:20210716T164807Z
UID:4145-1626712200-1626717600@lmroa.com
SUMMARY:MCC Meeting 4:30 p.m.
DESCRIPTION:Rescheduled from July 12th.  Meeting will now be held Monday\, July 19th at 4:30 p.m. at the site office.
URL:https://lmroa.com/event/mcc-meeting/
LOCATION:Lake Manassas Clubhouse
END:VEVENT
BEGIN:VEVENT
DTSTART;TZID=America/New_York:20210724T060000
DTEND;TZID=America/New_York:20210724T120000
DTSTAMP:20260424T132007
CREATED:20210712T163752Z
LAST-MODIFIED:20210712T163752Z
UID:4160-1627106400-1627128000@lmroa.com
SUMMARY:SWIM MEET
DESCRIPTION:The pool will open around noon (post-meet) after cleaning.
URL:https://lmroa.com/event/swim-meet-6/
LOCATION:14900 Turtle Point Drive\, Gainesville\, VA\, 20155\, United States
END:VEVENT
BEGIN:VEVENT
DTSTART;TZID=America/New_York:20210731T060000
DTEND;TZID=America/New_York:20210731T120000
DTSTAMP:20260424T132007
CREATED:20210712T163850Z
LAST-MODIFIED:20210712T163850Z
UID:4162-1627711200-1627732800@lmroa.com
SUMMARY:DIVISIONAL SWIM MEET
DESCRIPTION:The pool will open around noon (post-meet) OR after cleaning.
URL:https://lmroa.com/event/divisional-swim-meet/
LOCATION:14900 Turtle Point Drive\, Gainesville\, VA\, 20155\, United States
END:VEVENT
END:VCALENDAR