BEGIN:VCALENDAR
VERSION:2.0
PRODID:-//Lake Manassas Residential Homeowners Association - ECPv6.15.18//NONSGML v1.0//EN
CALSCALE:GREGORIAN
METHOD:PUBLISH
X-ORIGINAL-URL:https://lmroa.com
X-WR-CALDESC:Events for Lake Manassas Residential Homeowners Association
REFRESH-INTERVAL;VALUE=DURATION:PT1H
X-Robots-Tag:noindex
X-PUBLISHED-TTL:PT1H
BEGIN:VTIMEZONE
TZID:America/New_York
BEGIN:DAYLIGHT
TZOFFSETFROM:-0500
TZOFFSETTO:-0400
TZNAME:EDT
DTSTART:20200308T070000
END:DAYLIGHT
BEGIN:STANDARD
TZOFFSETFROM:-0400
TZOFFSETTO:-0500
TZNAME:EST
DTSTART:20201101T060000
END:STANDARD
BEGIN:DAYLIGHT
TZOFFSETFROM:-0500
TZOFFSETTO:-0400
TZNAME:EDT
DTSTART:20210314T070000
END:DAYLIGHT
BEGIN:STANDARD
TZOFFSETFROM:-0400
TZOFFSETTO:-0500
TZNAME:EST
DTSTART:20211107T060000
END:STANDARD
BEGIN:DAYLIGHT
TZOFFSETFROM:-0500
TZOFFSETTO:-0400
TZNAME:EDT
DTSTART:20220313T070000
END:DAYLIGHT
BEGIN:STANDARD
TZOFFSETFROM:-0400
TZOFFSETTO:-0500
TZNAME:EST
DTSTART:20221106T060000
END:STANDARD
END:VTIMEZONE
BEGIN:VEVENT
DTSTART;TZID=America/New_York:20210823T190000
DTEND;TZID=America/New_York:20210823T200000
DTSTAMP:20260424T113415
CREATED:20210809T162939Z
LAST-MODIFIED:20210809T164310Z
UID:4198-1629745200-1629748800@lmroa.com
SUMMARY:STC Mtg (closed 7 pm/open 730 pm)
DESCRIPTION:Monday\, August 23.  Closed Session 7 p.m. / Open Session 7:30 p.m. \nHomeowners are welcome to attend open session at 7:30 p.m.
URL:https://lmroa.com/event/stc-mtg-closed-7-pm-open-730-pm/
LOCATION:14900 Turtle Point Drive\, Gainesville\, VA\, 20155\, United States
END:VEVENT
BEGIN:VEVENT
DTSTART;TZID=America/New_York:20210826T170000
DTEND;TZID=America/New_York:20210826T190000
DTSTAMP:20260424T113415
CREATED:20210810T213429Z
LAST-MODIFIED:20210810T213429Z
UID:4205-1629997200-1630004400@lmroa.com
SUMMARY:LMROA Quarterly Board Mtg
DESCRIPTION:5 p.m. closed session / 6 p.m. open session / Resident welcome to attend open session
URL:https://lmroa.com/event/lmroa-quarterly-board-mtg/
LOCATION:14900 Turtle Point Drive\, Gainesville\, VA\, 20155\, United States
END:VEVENT
END:VCALENDAR