BEGIN:VCALENDAR
VERSION:2.0
PRODID:-//Lake Manassas Residential Homeowners Association - ECPv6.15.18//NONSGML v1.0//EN
CALSCALE:GREGORIAN
METHOD:PUBLISH
X-WR-CALNAME:Lake Manassas Residential Homeowners Association
X-ORIGINAL-URL:https://lmroa.com
X-WR-CALDESC:Events for Lake Manassas Residential Homeowners Association
REFRESH-INTERVAL;VALUE=DURATION:PT1H
X-Robots-Tag:noindex
X-PUBLISHED-TTL:PT1H
BEGIN:VTIMEZONE
TZID:America/New_York
BEGIN:DAYLIGHT
TZOFFSETFROM:-0500
TZOFFSETTO:-0400
TZNAME:EDT
DTSTART:20200308T070000
END:DAYLIGHT
BEGIN:STANDARD
TZOFFSETFROM:-0400
TZOFFSETTO:-0500
TZNAME:EST
DTSTART:20201101T060000
END:STANDARD
BEGIN:DAYLIGHT
TZOFFSETFROM:-0500
TZOFFSETTO:-0400
TZNAME:EDT
DTSTART:20210314T070000
END:DAYLIGHT
BEGIN:STANDARD
TZOFFSETFROM:-0400
TZOFFSETTO:-0500
TZNAME:EST
DTSTART:20211107T060000
END:STANDARD
BEGIN:DAYLIGHT
TZOFFSETFROM:-0500
TZOFFSETTO:-0400
TZNAME:EDT
DTSTART:20220313T070000
END:DAYLIGHT
BEGIN:STANDARD
TZOFFSETFROM:-0400
TZOFFSETTO:-0500
TZNAME:EST
DTSTART:20221106T060000
END:STANDARD
END:VTIMEZONE
BEGIN:VEVENT
DTSTART;TZID=America/New_York:20211006T170000
DTEND;TZID=America/New_York:20211006T180000
DTSTAMP:20260424T080551
CREATED:20190404T165955Z
LAST-MODIFIED:20210928T172238Z
UID:3313-1633539600-1633543200@lmroa.com
SUMMARY:MCC Mtg 5pm
DESCRIPTION:
URL:https://lmroa.com/event/mcc-mtg-17-2021-10-11/
LOCATION:14900 Turtle Point Drive\, Gainesville\, VA\, 20155\, United States
END:VEVENT
BEGIN:VEVENT
DTSTART;VALUE=DATE:20211020
DTEND;VALUE=DATE:20211021
DTSTAMP:20260424T080551
CREATED:20210928T172859Z
LAST-MODIFIED:20210928T172859Z
UID:4238-1634688000-1634774399@lmroa.com
SUMMARY:Site Office Closed
DESCRIPTION:
URL:https://lmroa.com/event/site-office-closed-14/
LOCATION:14900 Turtle Point Drive\, Gainesville\, VA\, 20155\, United States
END:VEVENT
BEGIN:VEVENT
DTSTART;TZID=America/New_York:20211026T070000
DTEND;TZID=America/New_York:20211028T180000
DTSTAMP:20260424T080551
CREATED:20211004T184927Z
LAST-MODIFIED:20211004T184927Z
UID:4248-1635231600-1635444000@lmroa.com
SUMMARY:ROAD WORK!
DESCRIPTION:ROAD WORK is scheduled 10/26 through 10/28\, for Alpine Bay Loop\, Bonnie Briar Loop\, Birnham Wood Court\, Crooked Oaks Court\, Horseshoe Bay Court and Hancock Court. A more detailed schedule will be mailed to affected homeowners. \n 
URL:https://lmroa.com/event/road-work/
LOCATION:14900 Turtle Point Drive\, Gainesville\, VA\, 20155\, United States
END:VEVENT
END:VCALENDAR