BEGIN:VCALENDAR
VERSION:2.0
PRODID:-//Lake Manassas Residential Homeowners Association - ECPv6.15.18//NONSGML v1.0//EN
CALSCALE:GREGORIAN
METHOD:PUBLISH
X-WR-CALNAME:Lake Manassas Residential Homeowners Association
X-ORIGINAL-URL:https://lmroa.com
X-WR-CALDESC:Events for Lake Manassas Residential Homeowners Association
REFRESH-INTERVAL;VALUE=DURATION:PT1H
X-Robots-Tag:noindex
X-PUBLISHED-TTL:PT1H
BEGIN:VTIMEZONE
TZID:America/New_York
BEGIN:DAYLIGHT
TZOFFSETFROM:-0500
TZOFFSETTO:-0400
TZNAME:EDT
DTSTART:20210314T070000
END:DAYLIGHT
BEGIN:STANDARD
TZOFFSETFROM:-0400
TZOFFSETTO:-0500
TZNAME:EST
DTSTART:20211107T060000
END:STANDARD
BEGIN:DAYLIGHT
TZOFFSETFROM:-0500
TZOFFSETTO:-0400
TZNAME:EDT
DTSTART:20220313T070000
END:DAYLIGHT
BEGIN:STANDARD
TZOFFSETFROM:-0400
TZOFFSETTO:-0500
TZNAME:EST
DTSTART:20221106T060000
END:STANDARD
BEGIN:DAYLIGHT
TZOFFSETFROM:-0500
TZOFFSETTO:-0400
TZNAME:EDT
DTSTART:20230312T070000
END:DAYLIGHT
BEGIN:STANDARD
TZOFFSETFROM:-0400
TZOFFSETTO:-0500
TZNAME:EST
DTSTART:20231105T060000
END:STANDARD
END:VTIMEZONE
BEGIN:VEVENT
DTSTART;TZID=America/New_York:20220413T170000
DTEND;TZID=America/New_York:20220413T190000
DTSTAMP:20260424T001107
CREATED:20220405T175337Z
LAST-MODIFIED:20220405T175337Z
UID:4529-1649869200-1649876400@lmroa.com
SUMMARY:LUGA Mtg 5 PM
DESCRIPTION:Land Use & Governmental Affairs Committee Meeting at 5 PM at Stonewall Golf Club
URL:https://lmroa.com/event/luga-mtg-5-pm/
END:VEVENT
BEGIN:VEVENT
DTSTART;TZID=America/New_York:20220419T180000
DTEND;TZID=America/New_York:20220419T190000
DTSTAMP:20260424T001107
CREATED:20220405T170756Z
LAST-MODIFIED:20220405T170827Z
UID:4526-1650391200-1650394800@lmroa.com
SUMMARY:BOD Meeting 6 PM
DESCRIPTION:Board of Directors Meeting at Stonewall Golf Club
URL:https://lmroa.com/event/bod-meeting/
END:VEVENT
BEGIN:VEVENT
DTSTART;TZID=America/New_York:20220427T170000
DTEND;TZID=America/New_York:20220427T180000
DTSTAMP:20260424T001107
CREATED:20220425T132919Z
LAST-MODIFIED:20220425T132938Z
UID:4546-1651078800-1651082400@lmroa.com
SUMMARY:Budget & Finance Mtg 5pm
DESCRIPTION:Budget & Finance Committee meeting in HOA Site Office at 5 PM
URL:https://lmroa.com/event/budget-finance-mtg-10/
END:VEVENT
END:VCALENDAR