BEGIN:VCALENDAR
VERSION:2.0
PRODID:-//Lake Manassas Residential Homeowners Association - ECPv6.15.18//NONSGML v1.0//EN
CALSCALE:GREGORIAN
METHOD:PUBLISH
X-WR-CALNAME:Lake Manassas Residential Homeowners Association
X-ORIGINAL-URL:https://lmroa.com
X-WR-CALDESC:Events for Lake Manassas Residential Homeowners Association
REFRESH-INTERVAL;VALUE=DURATION:PT1H
X-Robots-Tag:noindex
X-PUBLISHED-TTL:PT1H
BEGIN:VTIMEZONE
TZID:America/New_York
BEGIN:DAYLIGHT
TZOFFSETFROM:-0500
TZOFFSETTO:-0400
TZNAME:EDT
DTSTART:20210314T070000
END:DAYLIGHT
BEGIN:STANDARD
TZOFFSETFROM:-0400
TZOFFSETTO:-0500
TZNAME:EST
DTSTART:20211107T060000
END:STANDARD
BEGIN:DAYLIGHT
TZOFFSETFROM:-0500
TZOFFSETTO:-0400
TZNAME:EDT
DTSTART:20220313T070000
END:DAYLIGHT
BEGIN:STANDARD
TZOFFSETFROM:-0400
TZOFFSETTO:-0500
TZNAME:EST
DTSTART:20221106T060000
END:STANDARD
BEGIN:DAYLIGHT
TZOFFSETFROM:-0500
TZOFFSETTO:-0400
TZNAME:EDT
DTSTART:20230312T070000
END:DAYLIGHT
BEGIN:STANDARD
TZOFFSETFROM:-0400
TZOFFSETTO:-0500
TZNAME:EST
DTSTART:20231105T060000
END:STANDARD
END:VTIMEZONE
BEGIN:VEVENT
DTSTART;TZID=America/New_York:20220504T170000
DTEND;TZID=America/New_York:20220504T180000
DTSTAMP:20260423T224139
CREATED:20220429T195702Z
LAST-MODIFIED:20220429T195702Z
UID:4554-1651683600-1651687200@lmroa.com
SUMMARY:Land Use and Government Affairs Mtg
DESCRIPTION:May 4\, 2022\, 5:00 p.m. at the site office.  Residents welcome to attend.
URL:https://lmroa.com/event/land-use-and-government-affairs-mtg/
END:VEVENT
BEGIN:VEVENT
DTSTART;TZID=America/New_York:20220528T110000
DTEND;TZID=America/New_York:20220528T200000
DTSTAMP:20260423T224139
CREATED:20220429T200559Z
LAST-MODIFIED:20220429T200646Z
UID:4556-1653735600-1653768000@lmroa.com
SUMMARY:POOL OPENS!
DESCRIPTION:Pool opens at 11 a.m. on Saturday\, May 28th
URL:https://lmroa.com/event/pool-opens-2/
END:VEVENT
BEGIN:VEVENT
DTSTART;VALUE=DATE:20220530
DTEND;VALUE=DATE:20220531
DTSTAMP:20260423T224139
CREATED:20220425T133352Z
LAST-MODIFIED:20220425T133352Z
UID:4551-1653868800-1653955199@lmroa.com
SUMMARY:Memorial Day - Site Office Closed
DESCRIPTION:Memorial Day – Site Office Closed
URL:https://lmroa.com/event/memorial-day-site-office-closed-2/
END:VEVENT
END:VCALENDAR