BEGIN:VCALENDAR
VERSION:2.0
PRODID:-//Lake Manassas Residential Homeowners Association - ECPv6.15.18//NONSGML v1.0//EN
CALSCALE:GREGORIAN
METHOD:PUBLISH
X-WR-CALNAME:Lake Manassas Residential Homeowners Association
X-ORIGINAL-URL:https://lmroa.com
X-WR-CALDESC:Events for Lake Manassas Residential Homeowners Association
REFRESH-INTERVAL;VALUE=DURATION:PT1H
X-Robots-Tag:noindex
X-PUBLISHED-TTL:PT1H
BEGIN:VTIMEZONE
TZID:America/New_York
BEGIN:DAYLIGHT
TZOFFSETFROM:-0500
TZOFFSETTO:-0400
TZNAME:EDT
DTSTART:20210314T070000
END:DAYLIGHT
BEGIN:STANDARD
TZOFFSETFROM:-0400
TZOFFSETTO:-0500
TZNAME:EST
DTSTART:20211107T060000
END:STANDARD
BEGIN:DAYLIGHT
TZOFFSETFROM:-0500
TZOFFSETTO:-0400
TZNAME:EDT
DTSTART:20220313T070000
END:DAYLIGHT
BEGIN:STANDARD
TZOFFSETFROM:-0400
TZOFFSETTO:-0500
TZNAME:EST
DTSTART:20221106T060000
END:STANDARD
BEGIN:DAYLIGHT
TZOFFSETFROM:-0500
TZOFFSETTO:-0400
TZNAME:EDT
DTSTART:20230312T070000
END:DAYLIGHT
BEGIN:STANDARD
TZOFFSETFROM:-0400
TZOFFSETTO:-0500
TZNAME:EST
DTSTART:20231105T060000
END:STANDARD
END:VTIMEZONE
BEGIN:VEVENT
DTSTART;TZID=America/New_York:20220902T080000
DTEND;TZID=America/New_York:20220902T120000
DTSTAMP:20260423T175322
CREATED:20220802T160919Z
LAST-MODIFIED:20220815T145414Z
UID:4682-1662105600-1662120000@lmroa.com
SUMMARY:MCC Application Deadline
DESCRIPTION:Deadline is Noon on Friday\, September 2nd for the MCC meeting to be held on Monday\, September 12th at 5 p.m.  Meetings are held at the Site Office located at the Swim and Tennis Center on Turtle Point Drive.
URL:https://lmroa.com/event/mcc-application-deadline/
END:VEVENT
BEGIN:VEVENT
DTSTART;TZID=America/New_York:20220915T180000
DTEND;TZID=America/New_York:20220915T190000
DTSTAMP:20260423T175322
CREATED:20220907T185136Z
LAST-MODIFIED:20220907T185136Z
UID:4726-1663264800-1663268400@lmroa.com
SUMMARY:Land Use Committee Mtg
DESCRIPTION:6 p.m. at Site Office
URL:https://lmroa.com/event/land-use-committee-mtg/
END:VEVENT
BEGIN:VEVENT
DTSTART;TZID=America/New_York:20220928T190000
DTEND;TZID=America/New_York:20220928T200000
DTSTAMP:20260423T175322
CREATED:20220907T185253Z
LAST-MODIFIED:20220907T185253Z
UID:4728-1664391600-1664395200@lmroa.com
SUMMARY:LMROA Annual Mtg & Election
DESCRIPTION:7 p.m. at the Stonewall Golf Club
URL:https://lmroa.com/event/lmroa-annual-mtg-election/
END:VEVENT
BEGIN:VEVENT
DTSTART;VALUE=DATE:20220930
DTEND;VALUE=DATE:20221001
DTSTAMP:20260423T175322
CREATED:20220815T153304Z
LAST-MODIFIED:20220815T153304Z
UID:4705-1664496000-1664582399@lmroa.com
SUMMARY:MCC Application Deadline
DESCRIPTION:Deadline is Noon on Friday\, September 30th for the MCC meeting to be held on Monday\, October 10th at 5 p.m.  Meetings are held at the Site Office located at the Swim and Tennis Center on Turtle Point Drive.
URL:https://lmroa.com/event/mcc-application-deadline-3/
END:VEVENT
END:VCALENDAR