BEGIN:VCALENDAR
VERSION:2.0
PRODID:-//Lake Manassas Residential Homeowners Association - ECPv6.15.18//NONSGML v1.0//EN
CALSCALE:GREGORIAN
METHOD:PUBLISH
X-WR-CALNAME:Lake Manassas Residential Homeowners Association
X-ORIGINAL-URL:https://lmroa.com
X-WR-CALDESC:Events for Lake Manassas Residential Homeowners Association
REFRESH-INTERVAL;VALUE=DURATION:PT1H
X-Robots-Tag:noindex
X-PUBLISHED-TTL:PT1H
BEGIN:VTIMEZONE
TZID:America/New_York
BEGIN:DAYLIGHT
TZOFFSETFROM:-0500
TZOFFSETTO:-0400
TZNAME:EDT
DTSTART:20220313T070000
END:DAYLIGHT
BEGIN:STANDARD
TZOFFSETFROM:-0400
TZOFFSETTO:-0500
TZNAME:EST
DTSTART:20221106T060000
END:STANDARD
BEGIN:DAYLIGHT
TZOFFSETFROM:-0500
TZOFFSETTO:-0400
TZNAME:EDT
DTSTART:20230312T070000
END:DAYLIGHT
BEGIN:STANDARD
TZOFFSETFROM:-0400
TZOFFSETTO:-0500
TZNAME:EST
DTSTART:20231105T060000
END:STANDARD
BEGIN:DAYLIGHT
TZOFFSETFROM:-0500
TZOFFSETTO:-0400
TZNAME:EDT
DTSTART:20240310T070000
END:DAYLIGHT
BEGIN:STANDARD
TZOFFSETFROM:-0400
TZOFFSETTO:-0500
TZNAME:EST
DTSTART:20241103T060000
END:STANDARD
END:VTIMEZONE
BEGIN:VEVENT
DTSTART;VALUE=DATE:20231208
DTEND;VALUE=DATE:20231209
DTSTAMP:20260422T191043
CREATED:20231120T165908Z
LAST-MODIFIED:20231120T170449Z
UID:5422-1701993600-1702079999@lmroa.com
SUMMARY:MCC apps due
DESCRIPTION:Exterior Modification Applications due by NOON to the Site Office for review at Modification and Construction Committee’s (MCC) December meeting.
URL:https://lmroa.com/event/mcc-apps-due-6/
END:VEVENT
BEGIN:VEVENT
DTSTART;VALUE=DATE:20231218
DTEND;VALUE=DATE:20231219
DTSTAMP:20260422T191043
CREATED:20231120T170027Z
LAST-MODIFIED:20231206T150525Z
UID:5424-1702857600-1702943999@lmroa.com
SUMMARY:CC Mtg cancelled
DESCRIPTION:Covenants Committee (CC) Meeting cancelled for December
URL:https://lmroa.com/event/cc-mtg-6pm-12/
END:VEVENT
BEGIN:VEVENT
DTSTART;VALUE=DATE:20231219
DTEND;VALUE=DATE:20231220
DTSTAMP:20260422T191043
CREATED:20231120T170146Z
LAST-MODIFIED:20231120T170146Z
UID:5426-1702944000-1703030399@lmroa.com
SUMMARY:MCC Mtg 5pm
DESCRIPTION:Modification and Construction Committee (MCC) meeting at 5 pm in Site Office.
URL:https://lmroa.com/event/mcc-mtg-5pm-11/
END:VEVENT
BEGIN:VEVENT
DTSTART;VALUE=DATE:20231225
DTEND;VALUE=DATE:20231226
DTSTAMP:20260422T191043
CREATED:20230830T155329Z
LAST-MODIFIED:20230830T155329Z
UID:5299-1703462400-1703548799@lmroa.com
SUMMARY:Site Office Closed
DESCRIPTION:Site office closed for Christmas holiday
URL:https://lmroa.com/event/site-office-closed-4/
END:VEVENT
BEGIN:VEVENT
DTSTART;VALUE=DATE:20231229
DTEND;VALUE=DATE:20231230
DTSTAMP:20260422T191043
CREATED:20231120T171428Z
LAST-MODIFIED:20231120T171428Z
UID:5431-1703808000-1703894399@lmroa.com
SUMMARY:MCC apps due
DESCRIPTION:Exterior Modification Applications due by NOON to the Site Office for review at Modification and Construction Committee’s (MCC) January meeting.
URL:https://lmroa.com/event/mcc-apps-due-7/
END:VEVENT
END:VCALENDAR