BEGIN:VCALENDAR
VERSION:2.0
PRODID:-//Lake Manassas Residential Homeowners Association - ECPv6.15.18//NONSGML v1.0//EN
CALSCALE:GREGORIAN
METHOD:PUBLISH
X-ORIGINAL-URL:https://lmroa.com
X-WR-CALDESC:Events for Lake Manassas Residential Homeowners Association
REFRESH-INTERVAL;VALUE=DURATION:PT1H
X-Robots-Tag:noindex
X-PUBLISHED-TTL:PT1H
BEGIN:VTIMEZONE
TZID:America/New_York
BEGIN:DAYLIGHT
TZOFFSETFROM:-0500
TZOFFSETTO:-0400
TZNAME:EDT
DTSTART:20230312T070000
END:DAYLIGHT
BEGIN:STANDARD
TZOFFSETFROM:-0400
TZOFFSETTO:-0500
TZNAME:EST
DTSTART:20231105T060000
END:STANDARD
BEGIN:DAYLIGHT
TZOFFSETFROM:-0500
TZOFFSETTO:-0400
TZNAME:EDT
DTSTART:20240310T070000
END:DAYLIGHT
BEGIN:STANDARD
TZOFFSETFROM:-0400
TZOFFSETTO:-0500
TZNAME:EST
DTSTART:20241103T060000
END:STANDARD
BEGIN:DAYLIGHT
TZOFFSETFROM:-0500
TZOFFSETTO:-0400
TZNAME:EDT
DTSTART:20250309T070000
END:DAYLIGHT
BEGIN:STANDARD
TZOFFSETFROM:-0400
TZOFFSETTO:-0500
TZNAME:EST
DTSTART:20251102T060000
END:STANDARD
END:VTIMEZONE
BEGIN:VEVENT
DTSTART;VALUE=DATE:20240101
DTEND;VALUE=DATE:20240102
DTSTAMP:20260422T173923
CREATED:20230830T155430Z
LAST-MODIFIED:20230830T155430Z
UID:5301-1704067200-1704153599@lmroa.com
SUMMARY:Site Office Closed
DESCRIPTION:Site office closed for New Year’s holiday
URL:https://lmroa.com/event/site-office-closed-5/
END:VEVENT
BEGIN:VEVENT
DTSTART;VALUE=DATE:20240108
DTEND;VALUE=DATE:20240109
DTSTAMP:20260422T173923
CREATED:20231120T171632Z
LAST-MODIFIED:20240104T160504Z
UID:5434-1704672000-1704758399@lmroa.com
SUMMARY:MCC Mtg cancelled
DESCRIPTION:Modification and Construction Committee (MCC) meeting cancelled for January.
URL:https://lmroa.com/event/mcc-mtg-5pm-12/
END:VEVENT
BEGIN:VEVENT
DTSTART;VALUE=DATE:20240115
DTEND;VALUE=DATE:20240116
DTSTAMP:20260422T173923
CREATED:20231120T171716Z
LAST-MODIFIED:20240115T162532Z
UID:5436-1705276800-1705363199@lmroa.com
SUMMARY:CC Mtg cancelled
DESCRIPTION:Covenants Committee (CC) Meeting will be rescheduled to due inclement weather.
URL:https://lmroa.com/event/cc-mtg-6pm-13/
END:VEVENT
BEGIN:VEVENT
DTSTART;VALUE=DATE:20240115
DTEND;VALUE=DATE:20240116
DTSTAMP:20260422T173923
CREATED:20240104T160611Z
LAST-MODIFIED:20240104T160611Z
UID:5457-1705276800-1705363199@lmroa.com
SUMMARY:Site Office closed
DESCRIPTION:Site office closed for Martin Luther King Jr. Day.
URL:https://lmroa.com/event/site-office-closed-6/
END:VEVENT
BEGIN:VEVENT
DTSTART;VALUE=DATE:20240129
DTEND;VALUE=DATE:20240130
DTSTAMP:20260422T173923
CREATED:20240126T132327Z
LAST-MODIFIED:20240126T132327Z
UID:5473-1706486400-1706572799@lmroa.com
SUMMARY:CC Mtg 6pm
DESCRIPTION:Covenants Committee (CC) Meeting at 6 pm in Site Office.
URL:https://lmroa.com/event/cc-mtg-6pm-14/
END:VEVENT
END:VCALENDAR