BEGIN:VCALENDAR
VERSION:2.0
PRODID:-//Lake Manassas Residential Homeowners Association - ECPv6.15.18//NONSGML v1.0//EN
CALSCALE:GREGORIAN
METHOD:PUBLISH
X-WR-CALNAME:Lake Manassas Residential Homeowners Association
X-ORIGINAL-URL:https://lmroa.com
X-WR-CALDESC:Events for Lake Manassas Residential Homeowners Association
REFRESH-INTERVAL;VALUE=DURATION:PT1H
X-Robots-Tag:noindex
X-PUBLISHED-TTL:PT1H
BEGIN:VTIMEZONE
TZID:America/New_York
BEGIN:DAYLIGHT
TZOFFSETFROM:-0500
TZOFFSETTO:-0400
TZNAME:EDT
DTSTART:20230312T070000
END:DAYLIGHT
BEGIN:STANDARD
TZOFFSETFROM:-0400
TZOFFSETTO:-0500
TZNAME:EST
DTSTART:20231105T060000
END:STANDARD
BEGIN:DAYLIGHT
TZOFFSETFROM:-0500
TZOFFSETTO:-0400
TZNAME:EDT
DTSTART:20240310T070000
END:DAYLIGHT
BEGIN:STANDARD
TZOFFSETFROM:-0400
TZOFFSETTO:-0500
TZNAME:EST
DTSTART:20241103T060000
END:STANDARD
BEGIN:DAYLIGHT
TZOFFSETFROM:-0500
TZOFFSETTO:-0400
TZNAME:EDT
DTSTART:20250309T070000
END:DAYLIGHT
BEGIN:STANDARD
TZOFFSETFROM:-0400
TZOFFSETTO:-0500
TZNAME:EST
DTSTART:20251102T060000
END:STANDARD
END:VTIMEZONE
BEGIN:VEVENT
DTSTART;VALUE=DATE:20240202
DTEND;VALUE=DATE:20240203
DTSTAMP:20260422T160636
CREATED:20240126T132457Z
LAST-MODIFIED:20240126T132457Z
UID:5475-1706832000-1706918399@lmroa.com
SUMMARY:MCC apps due
DESCRIPTION:Exterior Modification Applications due by NOON to the Site Office for review at Modification and Construction Committee’s (MCC) February meeting.
URL:https://lmroa.com/event/mcc-apps-due-8/
END:VEVENT
BEGIN:VEVENT
DTSTART;VALUE=DATE:20240212
DTEND;VALUE=DATE:20240213
DTSTAMP:20260422T160636
CREATED:20240126T132828Z
LAST-MODIFIED:20240126T132828Z
UID:5477-1707696000-1707782399@lmroa.com
SUMMARY:MCC Mtg 5pm
DESCRIPTION:Modification and Construction Committee (MCC) meeting at 5pm in Site Office.
URL:https://lmroa.com/event/mcc-mtg-5pm-13/
END:VEVENT
BEGIN:VEVENT
DTSTART;VALUE=DATE:20240219
DTEND;VALUE=DATE:20240220
DTSTAMP:20260422T160636
CREATED:20240126T132903Z
LAST-MODIFIED:20240126T132903Z
UID:5479-1708300800-1708387199@lmroa.com
SUMMARY:Site Office closed
DESCRIPTION:Site office closed for Presidents’ Day.
URL:https://lmroa.com/event/site-office-closed-7/
END:VEVENT
BEGIN:VEVENT
DTSTART;VALUE=DATE:20240220
DTEND;VALUE=DATE:20240221
DTSTAMP:20260422T160636
CREATED:20240216T181504Z
LAST-MODIFIED:20240216T181504Z
UID:5508-1708387200-1708473599@lmroa.com
SUMMARY:Budget & Finance Mtg 6pm
DESCRIPTION:Budget & Finance Committee Meeting at 6pm in the Site Office.
URL:https://lmroa.com/event/budget-finance-mtg-6pm-2/
END:VEVENT
BEGIN:VEVENT
DTSTART;VALUE=DATE:20240221
DTEND;VALUE=DATE:20240222
DTSTAMP:20260422T160636
CREATED:20240202T134200Z
LAST-MODIFIED:20240228T135221Z
UID:5485-1708473600-1708559999@lmroa.com
SUMMARY:CVAC Mtg 5:30pm
DESCRIPTION:Community Visitor Access Committee (CVAC) meeting in the Site Office at 5:30pm.
URL:https://lmroa.com/event/cvac-mtg-530pm-6/
END:VEVENT
BEGIN:VEVENT
DTSTART;VALUE=DATE:20240226
DTEND;VALUE=DATE:20240227
DTSTAMP:20260422T160636
CREATED:20240126T133030Z
LAST-MODIFIED:20240228T135012Z
UID:5481-1708905600-1708991999@lmroa.com
SUMMARY:CC Mtg cancelled
DESCRIPTION:Covenants Committee (CC) meeting cancelled.
URL:https://lmroa.com/event/cc-mtg-6pm-15/
END:VEVENT
END:VCALENDAR