BEGIN:VCALENDAR
VERSION:2.0
PRODID:-//Lake Manassas Residential Homeowners Association - ECPv6.15.18//NONSGML v1.0//EN
CALSCALE:GREGORIAN
METHOD:PUBLISH
X-ORIGINAL-URL:https://lmroa.com
X-WR-CALDESC:Events for Lake Manassas Residential Homeowners Association
REFRESH-INTERVAL;VALUE=DURATION:PT1H
X-Robots-Tag:noindex
X-PUBLISHED-TTL:PT1H
BEGIN:VTIMEZONE
TZID:America/New_York
BEGIN:DAYLIGHT
TZOFFSETFROM:-0500
TZOFFSETTO:-0400
TZNAME:EDT
DTSTART:20230312T070000
END:DAYLIGHT
BEGIN:STANDARD
TZOFFSETFROM:-0400
TZOFFSETTO:-0500
TZNAME:EST
DTSTART:20231105T060000
END:STANDARD
BEGIN:DAYLIGHT
TZOFFSETFROM:-0500
TZOFFSETTO:-0400
TZNAME:EDT
DTSTART:20240310T070000
END:DAYLIGHT
BEGIN:STANDARD
TZOFFSETFROM:-0400
TZOFFSETTO:-0500
TZNAME:EST
DTSTART:20241103T060000
END:STANDARD
BEGIN:DAYLIGHT
TZOFFSETFROM:-0500
TZOFFSETTO:-0400
TZNAME:EDT
DTSTART:20250309T070000
END:DAYLIGHT
BEGIN:STANDARD
TZOFFSETFROM:-0400
TZOFFSETTO:-0500
TZNAME:EST
DTSTART:20251102T060000
END:STANDARD
END:VTIMEZONE
BEGIN:VEVENT
DTSTART;VALUE=DATE:20240301
DTEND;VALUE=DATE:20240302
DTSTAMP:20260422T142553
CREATED:20240213T135514Z
LAST-MODIFIED:20240213T135514Z
UID:5506-1709251200-1709337599@lmroa.com
SUMMARY:MCC apps due
DESCRIPTION:Exterior Modification Applications due by NOON to the Site Office for review at Modification and Construction Committee’s (MCC) March meeting.
URL:https://lmroa.com/event/mcc-apps-due-9/
END:VEVENT
BEGIN:VEVENT
DTSTART;VALUE=DATE:20240311
DTEND;VALUE=DATE:20240312
DTSTAMP:20260422T142553
CREATED:20240213T135334Z
LAST-MODIFIED:20240213T135334Z
UID:5504-1710115200-1710201599@lmroa.com
SUMMARY:MCC Mtg 5:30pm
DESCRIPTION:Modification and Construction Committee (MCC) meeting at 5:30pm in Site Office.
URL:https://lmroa.com/event/mcc-mtg-530pm/
END:VEVENT
BEGIN:VEVENT
DTSTART;VALUE=DATE:20240314
DTEND;VALUE=DATE:20240315
DTSTAMP:20260422T142553
CREATED:20240228T135257Z
LAST-MODIFIED:20240228T135257Z
UID:5519-1710374400-1710460799@lmroa.com
SUMMARY:CVAC Mtg 5:30pm
DESCRIPTION:Community Visitor Access Committee (CVAC) meeting at 5:30 pm in the Site Office.
URL:https://lmroa.com/event/cvac-mtg-530pm-7/
END:VEVENT
BEGIN:VEVENT
DTSTART;VALUE=DATE:20240318
DTEND;VALUE=DATE:20240319
DTSTAMP:20260422T142553
CREATED:20240228T135058Z
LAST-MODIFIED:20240228T135058Z
UID:5516-1710720000-1710806399@lmroa.com
SUMMARY:CC Mtg 6pm
DESCRIPTION:Covenants Committee (CC) meeting at 6pm in Site Office.
URL:https://lmroa.com/event/cc-mtg-6pm-16/
END:VEVENT
END:VCALENDAR