BEGIN:VCALENDAR
VERSION:2.0
PRODID:-//Lake Manassas Residential Homeowners Association - ECPv6.15.18//NONSGML v1.0//EN
CALSCALE:GREGORIAN
METHOD:PUBLISH
X-WR-CALNAME:Lake Manassas Residential Homeowners Association
X-ORIGINAL-URL:https://lmroa.com
X-WR-CALDESC:Events for Lake Manassas Residential Homeowners Association
REFRESH-INTERVAL;VALUE=DURATION:PT1H
X-Robots-Tag:noindex
X-PUBLISHED-TTL:PT1H
BEGIN:VTIMEZONE
TZID:America/New_York
BEGIN:DAYLIGHT
TZOFFSETFROM:-0500
TZOFFSETTO:-0400
TZNAME:EDT
DTSTART:20230312T070000
END:DAYLIGHT
BEGIN:STANDARD
TZOFFSETFROM:-0400
TZOFFSETTO:-0500
TZNAME:EST
DTSTART:20231105T060000
END:STANDARD
BEGIN:DAYLIGHT
TZOFFSETFROM:-0500
TZOFFSETTO:-0400
TZNAME:EDT
DTSTART:20240310T070000
END:DAYLIGHT
BEGIN:STANDARD
TZOFFSETFROM:-0400
TZOFFSETTO:-0500
TZNAME:EST
DTSTART:20241103T060000
END:STANDARD
BEGIN:DAYLIGHT
TZOFFSETFROM:-0500
TZOFFSETTO:-0400
TZNAME:EDT
DTSTART:20250309T070000
END:DAYLIGHT
BEGIN:STANDARD
TZOFFSETFROM:-0400
TZOFFSETTO:-0500
TZNAME:EST
DTSTART:20251102T060000
END:STANDARD
END:VTIMEZONE
BEGIN:VEVENT
DTSTART;VALUE=DATE:20240405
DTEND;VALUE=DATE:20240406
DTSTAMP:20260420T190153
CREATED:20240313T173417Z
LAST-MODIFIED:20240313T173417Z
UID:5526-1712275200-1712361599@lmroa.com
SUMMARY:MCC apps due
DESCRIPTION:Exterior Modification Applications due by NOON to the Site Office for review at Modification and Construction Committee’s (MCC) April meeting.
URL:https://lmroa.com/event/mcc-apps-due-10/
END:VEVENT
BEGIN:VEVENT
DTSTART;VALUE=DATE:20240408
DTEND;VALUE=DATE:20240409
DTSTAMP:20260420T190153
CREATED:20240313T173825Z
LAST-MODIFIED:20240327T175318Z
UID:5534-1712534400-1712620799@lmroa.com
SUMMARY:CC Mtg 6pm
DESCRIPTION:Covenants Committee (CC) meeting at 6pm in Site Office.
URL:https://lmroa.com/event/cc-mtg-6pm-17/
END:VEVENT
BEGIN:VEVENT
DTSTART;VALUE=DATE:20240415
DTEND;VALUE=DATE:20240416
DTSTAMP:20260420T190153
CREATED:20240313T173526Z
LAST-MODIFIED:20240313T173526Z
UID:5528-1713139200-1713225599@lmroa.com
SUMMARY:MCC Mtg 5:30pm
DESCRIPTION:Modification and Construction Committee (MCC) meeting at 5:30pm in Site Office.
URL:https://lmroa.com/event/mcc-mtg-530pm-2/
END:VEVENT
END:VCALENDAR