BEGIN:VCALENDAR
VERSION:2.0
PRODID:-//Lake Manassas Residential Homeowners Association - ECPv6.15.18//NONSGML v1.0//EN
CALSCALE:GREGORIAN
METHOD:PUBLISH
X-ORIGINAL-URL:https://lmroa.com
X-WR-CALDESC:Events for Lake Manassas Residential Homeowners Association
REFRESH-INTERVAL;VALUE=DURATION:PT1H
X-Robots-Tag:noindex
X-PUBLISHED-TTL:PT1H
BEGIN:VTIMEZONE
TZID:America/New_York
BEGIN:DAYLIGHT
TZOFFSETFROM:-0500
TZOFFSETTO:-0400
TZNAME:EDT
DTSTART:20230312T070000
END:DAYLIGHT
BEGIN:STANDARD
TZOFFSETFROM:-0400
TZOFFSETTO:-0500
TZNAME:EST
DTSTART:20231105T060000
END:STANDARD
BEGIN:DAYLIGHT
TZOFFSETFROM:-0500
TZOFFSETTO:-0400
TZNAME:EDT
DTSTART:20240310T070000
END:DAYLIGHT
BEGIN:STANDARD
TZOFFSETFROM:-0400
TZOFFSETTO:-0500
TZNAME:EST
DTSTART:20241103T060000
END:STANDARD
BEGIN:DAYLIGHT
TZOFFSETFROM:-0500
TZOFFSETTO:-0400
TZNAME:EDT
DTSTART:20250309T070000
END:DAYLIGHT
BEGIN:STANDARD
TZOFFSETFROM:-0400
TZOFFSETTO:-0500
TZNAME:EST
DTSTART:20251102T060000
END:STANDARD
END:VTIMEZONE
BEGIN:VEVENT
DTSTART;VALUE=DATE:20240610
DTEND;VALUE=DATE:20240611
DTSTAMP:20260422T095348
CREATED:20240313T175043Z
LAST-MODIFIED:20240313T175043Z
UID:5552-1717977600-1718063999@lmroa.com
SUMMARY:MCC Mtg 5:30pm
DESCRIPTION:Modification and Construction Committee (MCC) meeting at 5:30pm in Site Office.
URL:https://lmroa.com/event/mcc-mtg-530pm-4/
END:VEVENT
BEGIN:VEVENT
DTSTART;TZID=America/New_York:20240615T060000
DTEND;TZID=America/New_York:20240615T120000
DTSTAMP:20260422T095348
CREATED:20240604T183413Z
LAST-MODIFIED:20240604T183413Z
UID:5670-1718431200-1718452800@lmroa.com
SUMMARY:Swim Meet
DESCRIPTION:The pool will open\, post meet\, after cleaning.
URL:https://lmroa.com/event/swim-meet-7/
END:VEVENT
BEGIN:VEVENT
DTSTART;VALUE=DATE:20240617
DTEND;VALUE=DATE:20240618
DTSTAMP:20260422T095348
CREATED:20240313T175128Z
LAST-MODIFIED:20240610T155824Z
UID:5554-1718582400-1718668799@lmroa.com
SUMMARY:CC Mtg cancelled
DESCRIPTION:Covenants Committee (CC) meeting cancelled this month.
URL:https://lmroa.com/event/cc-mtg-6pm-19/
END:VEVENT
BEGIN:VEVENT
DTSTART;VALUE=DATE:20240619
DTEND;VALUE=DATE:20240620
DTSTAMP:20260422T095348
CREATED:20240313T175240Z
LAST-MODIFIED:20240313T175240Z
UID:5556-1718755200-1718841599@lmroa.com
SUMMARY:CVAC Mtg 5:30pm
DESCRIPTION:Community Visitor Access Committee (CVAC) meeting at 5:30pm in Site Office.
URL:https://lmroa.com/event/cvac-mtg-530pm-10/
END:VEVENT
BEGIN:VEVENT
DTSTART;VALUE=DATE:20240628
DTEND;VALUE=DATE:20240629
DTSTAMP:20260422T095348
CREATED:20240313T175512Z
LAST-MODIFIED:20240313T175512Z
UID:5558-1719532800-1719619199@lmroa.com
SUMMARY:MCC apps due
DESCRIPTION:Exterior Modification Applications due by NOON to the Site Office for review at Modification and Construction Committee’s (MCC) July meeting.
URL:https://lmroa.com/event/mcc-apps-due-13/
END:VEVENT
END:VCALENDAR