BEGIN:VCALENDAR
VERSION:2.0
PRODID:-//Lake Manassas Residential Homeowners Association - ECPv6.15.18//NONSGML v1.0//EN
CALSCALE:GREGORIAN
METHOD:PUBLISH
X-ORIGINAL-URL:https://lmroa.com
X-WR-CALDESC:Events for Lake Manassas Residential Homeowners Association
REFRESH-INTERVAL;VALUE=DURATION:PT1H
X-Robots-Tag:noindex
X-PUBLISHED-TTL:PT1H
BEGIN:VTIMEZONE
TZID:America/New_York
BEGIN:DAYLIGHT
TZOFFSETFROM:-0500
TZOFFSETTO:-0400
TZNAME:EDT
DTSTART:20230312T070000
END:DAYLIGHT
BEGIN:STANDARD
TZOFFSETFROM:-0400
TZOFFSETTO:-0500
TZNAME:EST
DTSTART:20231105T060000
END:STANDARD
BEGIN:DAYLIGHT
TZOFFSETFROM:-0500
TZOFFSETTO:-0400
TZNAME:EDT
DTSTART:20240310T070000
END:DAYLIGHT
BEGIN:STANDARD
TZOFFSETFROM:-0400
TZOFFSETTO:-0500
TZNAME:EST
DTSTART:20241103T060000
END:STANDARD
BEGIN:DAYLIGHT
TZOFFSETFROM:-0500
TZOFFSETTO:-0400
TZNAME:EDT
DTSTART:20250309T070000
END:DAYLIGHT
BEGIN:STANDARD
TZOFFSETFROM:-0400
TZOFFSETTO:-0500
TZNAME:EST
DTSTART:20251102T060000
END:STANDARD
END:VTIMEZONE
BEGIN:VEVENT
DTSTART;VALUE=DATE:20240704
DTEND;VALUE=DATE:20240705
DTSTAMP:20260422T081003
CREATED:20240313T175601Z
LAST-MODIFIED:20240313T175601Z
UID:5560-1720051200-1720137599@lmroa.com
SUMMARY:Site office closed
DESCRIPTION:Site office closed for Independence Day holiday
URL:https://lmroa.com/event/site-office-closed-9/
END:VEVENT
BEGIN:VEVENT
DTSTART;TZID=America/New_York:20240706T060000
DTEND;TZID=America/New_York:20240706T120000
DTSTAMP:20260422T081003
CREATED:20240604T183511Z
LAST-MODIFIED:20240604T183511Z
UID:5672-1720245600-1720267200@lmroa.com
SUMMARY:Swim Meet
DESCRIPTION:The pool will open\, post meet\, after cleaning
URL:https://lmroa.com/event/swim-meet-8/
END:VEVENT
BEGIN:VEVENT
DTSTART;VALUE=DATE:20240715
DTEND;VALUE=DATE:20240716
DTSTAMP:20260422T081003
CREATED:20240313T175804Z
LAST-MODIFIED:20240313T175804Z
UID:5564-1721001600-1721087999@lmroa.com
SUMMARY:CC Mtg 6pm
DESCRIPTION:Covenants Committee (CC) meeting at 6pm in Site Office.
URL:https://lmroa.com/event/cc-mtg-6pm-20/
END:VEVENT
BEGIN:VEVENT
DTSTART;VALUE=DATE:20240716
DTEND;VALUE=DATE:20240717
DTSTAMP:20260422T081003
CREATED:20240313T175701Z
LAST-MODIFIED:20240513T222141Z
UID:5562-1721088000-1721174399@lmroa.com
SUMMARY:MCC Mtg 5:30pm
DESCRIPTION:Modification and Construction Committee (MCC) meeting at 5:30pm in Site Office.
URL:https://lmroa.com/event/mcc-mtg-530pm-5/
END:VEVENT
BEGIN:VEVENT
DTSTART;VALUE=DATE:20240717
DTEND;VALUE=DATE:20240718
DTSTAMP:20260422T081003
CREATED:20240313T175903Z
LAST-MODIFIED:20240715T130511Z
UID:5566-1721174400-1721260799@lmroa.com
SUMMARY:CVAC Mtg canceled
DESCRIPTION:Community Visitor Access Committee (CVAC) meeting canceled for July
URL:https://lmroa.com/event/cvac-mtg-530pm-11/
END:VEVENT
BEGIN:VEVENT
DTSTART;TZID=America/New_York:20240720T060000
DTEND;TZID=America/New_York:20240720T120000
DTSTAMP:20260422T081003
CREATED:20240604T183604Z
LAST-MODIFIED:20240604T183604Z
UID:5674-1721455200-1721476800@lmroa.com
SUMMARY:Swim Meet
DESCRIPTION:The pool will open\, post meet\, after cleaning
URL:https://lmroa.com/event/swim-meet-9/
END:VEVENT
BEGIN:VEVENT
DTSTART;TZID=America/New_York:20240723T180000
DTEND;TZID=America/New_York:20240723T190000
DTSTAMP:20260422T081003
CREATED:20240717T183832Z
LAST-MODIFIED:20240717T183832Z
UID:5709-1721757600-1721761200@lmroa.com
SUMMARY:Swim & Tennis Committee Meeting
DESCRIPTION:Meeting will be held at the site office at 6:00 p.m.  Residents are welcome to attend
URL:https://lmroa.com/event/swim-tennis-committee-meeting/
END:VEVENT
END:VCALENDAR