BEGIN:VCALENDAR
VERSION:2.0
PRODID:-//Lake Manassas Residential Homeowners Association - ECPv6.15.18//NONSGML v1.0//EN
CALSCALE:GREGORIAN
METHOD:PUBLISH
X-WR-CALNAME:Lake Manassas Residential Homeowners Association
X-ORIGINAL-URL:https://lmroa.com
X-WR-CALDESC:Events for Lake Manassas Residential Homeowners Association
REFRESH-INTERVAL;VALUE=DURATION:PT1H
X-Robots-Tag:noindex
X-PUBLISHED-TTL:PT1H
BEGIN:VTIMEZONE
TZID:America/New_York
BEGIN:DAYLIGHT
TZOFFSETFROM:-0500
TZOFFSETTO:-0400
TZNAME:EDT
DTSTART:20240310T070000
END:DAYLIGHT
BEGIN:STANDARD
TZOFFSETFROM:-0400
TZOFFSETTO:-0500
TZNAME:EST
DTSTART:20241103T060000
END:STANDARD
BEGIN:DAYLIGHT
TZOFFSETFROM:-0500
TZOFFSETTO:-0400
TZNAME:EDT
DTSTART:20250309T070000
END:DAYLIGHT
BEGIN:STANDARD
TZOFFSETFROM:-0400
TZOFFSETTO:-0500
TZNAME:EST
DTSTART:20251102T060000
END:STANDARD
BEGIN:DAYLIGHT
TZOFFSETFROM:-0500
TZOFFSETTO:-0400
TZNAME:EDT
DTSTART:20260308T070000
END:DAYLIGHT
BEGIN:STANDARD
TZOFFSETFROM:-0400
TZOFFSETTO:-0500
TZNAME:EST
DTSTART:20261101T060000
END:STANDARD
END:VTIMEZONE
BEGIN:VEVENT
DTSTART;VALUE=DATE:20250703
DTEND;VALUE=DATE:20250704
DTSTAMP:20260419T091347
CREATED:20241223T180029Z
LAST-MODIFIED:20241223T180029Z
UID:5887-1751500800-1751587199@lmroa.com
SUMMARY:MCC apps due
DESCRIPTION:Exterior Modification Applications due by NOON to the Site Office for review at Modification and Construction Committee’s (MCC) July meeting.
URL:https://lmroa.com/event/mcc-apps-due-25/
END:VEVENT
BEGIN:VEVENT
DTSTART;VALUE=DATE:20250704
DTEND;VALUE=DATE:20250705
DTSTAMP:20260419T091347
CREATED:20241223T181816Z
LAST-MODIFIED:20241223T181816Z
UID:5929-1751587200-1751673599@lmroa.com
SUMMARY:Site Office Closed
DESCRIPTION:Site Office closed for Independence Day holiday.
URL:https://lmroa.com/event/site-office-closed-26/
END:VEVENT
BEGIN:VEVENT
DTSTART;VALUE=DATE:20250712
DTEND;VALUE=DATE:20250713
DTSTAMP:20260419T091347
CREATED:20250514T163803Z
LAST-MODIFIED:20250514T163803Z
UID:6111-1752278400-1752364799@lmroa.com
SUMMARY:Swim Meet
DESCRIPTION:Swim Meet at the pool.  The Pool will be closed until a post-Meet cleaning is complete; the pool generally is open by noon.
URL:https://lmroa.com/event/swim-meet-12/
END:VEVENT
BEGIN:VEVENT
DTSTART;VALUE=DATE:20250714
DTEND;VALUE=DATE:20250715
DTSTAMP:20260419T091347
CREATED:20241223T174021Z
LAST-MODIFIED:20250714T222045Z
UID:5839-1752451200-1752537599@lmroa.com
SUMMARY:MCC mtg 5pm
DESCRIPTION:Modification and Construction Committee (MCC) meeting at 5:00 pm in Site Office.
URL:https://lmroa.com/event/mcc-mtg-530pm-17/
END:VEVENT
BEGIN:VEVENT
DTSTART;VALUE=DATE:20250721
DTEND;VALUE=DATE:20250722
DTSTAMP:20260419T091347
CREATED:20241223T175054Z
LAST-MODIFIED:20241223T175054Z
UID:5863-1753056000-1753142399@lmroa.com
SUMMARY:CC mtg 6pm
DESCRIPTION:Covenants Committee (CC) meeting at 6 pm in Site Office.
URL:https://lmroa.com/event/cc-mtg-6pm-31/
END:VEVENT
BEGIN:VEVENT
DTSTART;VALUE=DATE:20250723
DTEND;VALUE=DATE:20250724
DTSTAMP:20260419T091347
CREATED:20241223T181012Z
LAST-MODIFIED:20250714T143153Z
UID:5911-1753228800-1753315199@lmroa.com
SUMMARY:CVAC mtg 5:30pm
DESCRIPTION:Community Visitor Access Committee meeting at 5:30 pm in the Site Office.
URL:https://lmroa.com/event/cvac-mtg-530pm-19/
END:VEVENT
END:VCALENDAR